BEGIN:VCALENDAR
VERSION:2.0
PRODID:-//ANBN - ECPv6.15.17.1//NONSGML v1.0//EN
CALSCALE:GREGORIAN
METHOD:PUBLISH
X-ORIGINAL-URL:https://anbn.be
X-WR-CALDESC:Events for ANBN
REFRESH-INTERVAL;VALUE=DURATION:PT1H
X-Robots-Tag:noindex
X-PUBLISHED-TTL:PT1H
BEGIN:VTIMEZONE
TZID:UTC
BEGIN:STANDARD
TZOFFSETFROM:+0000
TZOFFSETTO:+0000
TZNAME:UTC
DTSTART:20250101T000000
END:STANDARD
END:VTIMEZONE
BEGIN:VEVENT
DTSTART;TZID=UTC:20260423T140000
DTEND;TZID=UTC:20260423T153000
DTSTAMP:20260423T102540
CREATED:20260211T121140Z
LAST-MODIFIED:20260211T153312Z
UID:10002859-1776952800-1776958200@anbn.be
SUMMARY:Online praatgroep
DESCRIPTION:Leven met een langdurige eetstoornis brengt vaak complexe en blijvende uitdagingen met zich mee. Tegelijk is er meer dan de eetstoornis alleen. Tijdens deze online praatgroep maken we ruimte voor beide kanten van het verhaal. \nWe gaan samen in gesprek over: \n\nDe uitdagingen van leven met een langdurige eetstoornis\nHoe we de impact van de eetstoornis proberen in te perken\nWat het leven kwaliteitsvol en zinvol maakt\nWaar we deugd aan beleven en kracht uit halen\n\nDeze bijeenkomst biedt een veilige en respectvolle ruimte om ervaringen te delen\, herkenning te vinden en elkaar te ondersteunen. \nDe praatgroep wordt begeleid door Els Verheyen\, coördinator van ANBN vzw.\nZin om de groep samen met Els te begeleiden? Mail naar els@anbn.be \nIedereen met een langdurige eetstoornis is welkom. \n📅 Donderdag 23 april🕑 14u00 – 15u30💻 Via Zoom \nWil je deelnemen? Schrijf je in via deze link en ontvang de Zoom-link. \nTevreden over ons aanbod? We waarderen een kleine gift of steun ons door lid te worden. 
URL:https://anbn.be/event/online-praatgroep-2/
CATEGORIES:online,personen met eetstoornis
ATTACH;FMTTYPE=image/svg+xml:https://anbn.be/wp-content/uploads/2026/02/Online-3.svg
END:VEVENT
END:VCALENDAR